﻿BEGIN:VCALENDAR
VERSION:2.0
PRODID:-//Church Music Institute - ECPv5.7.0//NONSGML v1.0//EN
CALSCALE:GREGORIAN
METHOD:PUBLISH
X-WR-CALNAME:Church Music Institute
X-ORIGINAL-URL:https://www.churchmusicinstitute.org
X-WR-CALDESC:Events for Church Music Institute
BEGIN:VTIMEZONE
TZID:America/Chicago
BEGIN:DAYLIGHT
TZOFFSETFROM:-0600
TZOFFSETTO:-0500
TZNAME:CDT
DTSTART:20180311T080000
END:DAYLIGHT
BEGIN:STANDARD
TZOFFSETFROM:-0500
TZOFFSETTO:-0600
TZNAME:CST
DTSTART:20181104T070000
END:STANDARD
END:VTIMEZONE
BEGIN:VEVENT
DTSTART;TZID=America/Chicago:20180722T190000
DTEND;TZID=America/Chicago:20180724T110000
DTSTAMP:20210612T183930
CREATED:20180112T190126Z
LAST-MODIFIED:20180112T190126Z
UID:49715-1532286000-1532430000@www.churchmusicinstitute.org
SUMMARY:Association for Reformed & Liturgical Worship
DESCRIPTION:July 22-24\, 2018 - CMI at Princeton Seminary for the national AR&LW Conference. \nAR&LW website: http://www.arlw.org/
URL:https://www.churchmusicinstitute.org/event/association-for-reformedliturgicalworship-2/
END:VEVENT
END:VCALENDAR