﻿BEGIN:VCALENDAR
VERSION:2.0
PRODID:-//Church Music Institute - ECPv5.7.0//NONSGML v1.0//EN
CALSCALE:GREGORIAN
METHOD:PUBLISH
X-WR-CALNAME:Church Music Institute
X-ORIGINAL-URL:https://www.churchmusicinstitute.org
X-WR-CALDESC:Events for Church Music Institute
BEGIN:VTIMEZONE
TZID:America/Chicago
BEGIN:DAYLIGHT
TZOFFSETFROM:-0600
TZOFFSETTO:-0500
TZNAME:CDT
DTSTART:20190310T080000
END:DAYLIGHT
BEGIN:STANDARD
TZOFFSETFROM:-0500
TZOFFSETTO:-0600
TZNAME:CST
DTSTART:20191103T070000
END:STANDARD
END:VTIMEZONE
BEGIN:VEVENT
DTSTART;TZID=America/Chicago:20191010T120000
DTEND;TZID=America/Chicago:20191011T163000
DTSTAMP:20210604T053437
CREATED:20190822T095912Z
LAST-MODIFIED:20190920T190227Z
UID:46213-1570708800-1570811400@www.churchmusicinstitute.org
SUMMARY:Best Practices Conference
DESCRIPTION:"Best Practices for Faithful Twenty-First Century Worship and Music Leaders"\nOctober 10-11\, 2019\, at St Michael and All Angels Episcopal Church in Dallas \nRegistration deadline is Monday\, October 7\, in order to know meals needed\, but walk in registrations are welcome. \nA 15% discount will be offered to churches with two or more registrants. If you select this option\, please use the printable mailing form below to calculate your discount. \nTo print out and mail a registration form\, click here \nTo return to information about the conference\, click here. \nTo view the detailed schedule\, click here. \nTo view the brochure\, click here. \n 
URL:https://www.churchmusicinstitute.org/event/best-practices-conference/
LOCATION:St. Michael & All Angels Episcopal Church\, 8011 Douglas Ave\, Dallas\, TX\, 75225
ORGANIZER;CN="Church%20Music%20Institute":MAILTO:info@churchmusicinstitute.org
GEO:32.8603693;-96.8097243
X-APPLE-STRUCTURED-LOCATION;VALUE=URI;X-ADDRESS=St. Michael & All Angels Episcopal Church 8011 Douglas Ave Dallas TX 75225;X-APPLE-RADIUS=500;X-TITLE=8011 Douglas Ave:geo:-96.8097243,32.8603693
END:VEVENT
END:VCALENDAR