﻿BEGIN:VCALENDAR
VERSION:2.0
PRODID:-//Church Music Institute - ECPv5.7.0//NONSGML v1.0//EN
CALSCALE:GREGORIAN
METHOD:PUBLISH
X-WR-CALNAME:Church Music Institute
X-ORIGINAL-URL:https://www.churchmusicinstitute.org
X-WR-CALDESC:Events for Church Music Institute
BEGIN:VTIMEZONE
TZID:America/Chicago
BEGIN:DAYLIGHT
TZOFFSETFROM:-0600
TZOFFSETTO:-0500
TZNAME:CDT
DTSTART:20180311T080000
END:DAYLIGHT
BEGIN:STANDARD
TZOFFSETFROM:-0500
TZOFFSETTO:-0600
TZNAME:CST
DTSTART:20181104T070000
END:STANDARD
END:VTIMEZONE
BEGIN:VEVENT
DTSTART;TZID=America/Chicago:20180519T073000
DTEND;TZID=America/Chicago:20180519T130000
DTSTAMP:20210612T184041
CREATED:20180226T210957Z
LAST-MODIFIED:20180226T210957Z
UID:37035-1526715000-1526734800@www.churchmusicinstitute.org
SUMMARY:CMI Exhibit at Grace Presbytery Meeting
DESCRIPTION:Stop by the CMI booth on Saturday\, May 19 at the Grace Presbytery Meeting located at First Presbyterian in Richardson. Learn more about our organization and ask us questions about what we do and why we do it. \nFirst Presbyterian Church - Richardson\n271 Walton St\nRichardson\, TX 75081 \n 
URL:https://www.churchmusicinstitute.org/event/cmi-exhibit-at-grace-presbytery-meeting/
END:VEVENT
END:VCALENDAR